BEGIN:VCALENDAR
VERSION:2.0
PRODID:-//The Fabric and Felt Studio - ECPv5.3.2.1//NONSGML v1.0//EN
CALSCALE:GREGORIAN
METHOD:PUBLISH
X-WR-CALNAME:The Fabric and Felt Studio
X-ORIGINAL-URL:https://thefabricandfeltstudio.com.au
X-WR-CALDESC:Events for The Fabric and Felt Studio
BEGIN:VTIMEZONE
TZID:Australia/Sydney
BEGIN:STANDARD
TZOFFSETFROM:+1100
TZOFFSETTO:+1000
TZNAME:AEST
DTSTART:20210403T160000
END:STANDARD
BEGIN:DAYLIGHT
TZOFFSETFROM:+1000
TZOFFSETTO:+1100
TZNAME:AEDT
DTSTART:20211002T160000
END:DAYLIGHT
END:VTIMEZONE
BEGIN:VEVENT
DTSTART;TZID=Australia/Sydney:20210206T093000
DTEND;TZID=Australia/Sydney:20210206T130000
DTSTAMP:20210226T200037
CREATED:20210128T010624Z
LAST-MODIFIED:20210128T012826Z
UID:12228-1612603800-1612616400@thefabricandfeltstudio.com.au
SUMMARY:Bucket Hat - Adult Learn to Sew
DESCRIPTION:
URL:https://thefabricandfeltstudio.com.au/event/bucket-hat-learn-to-sew/
END:VEVENT
BEGIN:VEVENT
DTSTART;TZID=Australia/Sydney:20210213T093000
DTEND;TZID=Australia/Sydney:20210213T140000
DTSTAMP:20210226T200037
CREATED:20210128T011237Z
LAST-MODIFIED:20210128T013248Z
UID:12231-1613208600-1613224800@thefabricandfeltstudio.com.au
SUMMARY:Quilt as You Go - Adult Learn to Sew
DESCRIPTION:
URL:https://thefabricandfeltstudio.com.au/event/quilt-as-you-go/
END:VEVENT
BEGIN:VEVENT
DTSTART;TZID=Australia/Sydney:20210220T090000
DTEND;TZID=Australia/Sydney:20210220T120000
DTSTAMP:20210226T200037
CREATED:20210128T012059Z
LAST-MODIFIED:20210128T012059Z
UID:12233-1613811600-1613822400@thefabricandfeltstudio.com.au
SUMMARY:Kids Learn to Sew
DESCRIPTION:
URL:https://thefabricandfeltstudio.com.au/event/kids-learn-to-sew/
END:VEVENT
BEGIN:VEVENT
DTSTART;TZID=Australia/Sydney:20210220T130000
DTEND;TZID=Australia/Sydney:20210220T160000
DTSTAMP:20210226T200037
CREATED:20210128T012142Z
LAST-MODIFIED:20210128T012142Z
UID:12235-1613826000-1613836800@thefabricandfeltstudio.com.au
SUMMARY:Kids Learn to Sew
DESCRIPTION:
URL:https://thefabricandfeltstudio.com.au/event/kids-learn-to-sew-2/
END:VEVENT
BEGIN:VEVENT
DTSTART;TZID=Australia/Sydney:20210227T090000
DTEND;TZID=Australia/Sydney:20210227T120000
DTSTAMP:20210226T200037
CREATED:20210128T012243Z
LAST-MODIFIED:20210128T012243Z
UID:12237-1614416400-1614427200@thefabricandfeltstudio.com.au
SUMMARY:Kids Learn to Sew
DESCRIPTION:
URL:https://thefabricandfeltstudio.com.au/event/kids-learn-to-sew-3/
END:VEVENT
BEGIN:VEVENT
DTSTART;TZID=Australia/Sydney:20210227T133000
DTEND;TZID=Australia/Sydney:20210227T160000
DTSTAMP:20210226T200037
CREATED:20210128T012548Z
LAST-MODIFIED:20210128T030341Z
UID:12245-1614432600-1614441600@thefabricandfeltstudio.com.au
SUMMARY:Kids Embroidery
DESCRIPTION:
URL:https://thefabricandfeltstudio.com.au/event/kids-embroidery/
END:VEVENT
END:VCALENDAR